BEGIN:VCALENDAR
VERSION:2.0
PRODID:-//Art Museum of Southeast Texas - ECPv6.15.20//NONSGML v1.0//EN
CALSCALE:GREGORIAN
METHOD:PUBLISH
X-WR-CALNAME:Art Museum of Southeast Texas
X-ORIGINAL-URL:https://amset.org
X-WR-CALDESC:Events for Art Museum of Southeast Texas
REFRESH-INTERVAL;VALUE=DURATION:PT1H
X-Robots-Tag:noindex
X-PUBLISHED-TTL:PT1H
BEGIN:VTIMEZONE
TZID:UTC
BEGIN:STANDARD
TZOFFSETFROM:+0000
TZOFFSETTO:+0000
TZNAME:UTC
DTSTART:20230101T000000
END:STANDARD
END:VTIMEZONE
BEGIN:VEVENT
DTSTART;TZID=UTC:20251114T123000
DTEND;TZID=UTC:20251114T133000
DTSTAMP:20260422T215435
CREATED:20251113T211449Z
LAST-MODIFIED:20251113T211449Z
UID:12675-1763123400-1763127000@amset.org
SUMMARY:Taste of the Arts with Keith Carter
DESCRIPTION:
URL:https://amset.org/event/taste-of-the-arts-with-keith-carter/
LOCATION:Art Museum of Southeast Texas\, 500 Main Street\, Beaumont\, TX\, 77701\, United States
END:VEVENT
BEGIN:VEVENT
DTSTART;TZID=UTC:20250605T183000
DTEND;TZID=UTC:20250605T213000
DTSTAMP:20260422T215435
CREATED:20250425T214001Z
LAST-MODIFIED:20250425T214001Z
UID:12300-1749148200-1749159000@amset.org
SUMMARY:Treasure Auction: Fit the Frame
DESCRIPTION:We find it most beFITting to invite you to our upcoming fundraiser Treasure Auction: Fit the Frame! We hope you will “FRAME” us into your busy schedule and join us unique event.\nWe have invited a select number of artists to utilize frames from AMSET or use their own frame to make a beautiful\, one-of-a-kind piece of art. These works will be sold during a live auction and dinner at 6:30 p.m. on Thursday\, June 5th. All proceeds will beneFIT our exhibition and education programs.\nThe ticket for this event is $50.00/person and includes a delicious dinner catered by Two Magnolias and an open bar.\nWe encourage you to invite your artsy friends and family to attend and help us FRAME a perfectly successful evening.\nPurchase tickets at this link https://form.jotform.com/251124598863162 or call AMSET offices at 409-832-3432.
URL:https://amset.org/event/treasure-auction-fit-the-frame/
LOCATION:Art Museum of Southeast Texas\, 500 Main Street\, Beaumont\, TX\, 77701\, United States
END:VEVENT
BEGIN:VEVENT
DTSTART;TZID=UTC:20250605T150000
DTEND;TZID=UTC:20250605T170000
DTSTAMP:20260422T215435
CREATED:20250425T214229Z
LAST-MODIFIED:20250425T214229Z
UID:12303-1749135600-1749142800@amset.org
SUMMARY:Attic Art Sale
DESCRIPTION:The 3rd Annual Attic Art Sale will be held on\nJune 5\, 2025 from 3:00 to 5:00 pm. This is\nyour opportunity to purchase incredible\nworks of art\, frames\, art books\, and so much more at\namazingly low prices!\nThis event is free to attend\, and open to the public!
URL:https://amset.org/event/attic-art-sale/
LOCATION:Art Museum of Southeast Texas\, 500 Main Street\, Beaumont\, TX\, 77701\, United States
END:VEVENT
BEGIN:VEVENT
DTSTART;TZID=UTC:20250503T100000
DTEND;TZID=UTC:20250503T140000
DTSTAMP:20260422T215435
CREATED:20250425T204312Z
LAST-MODIFIED:20250425T204312Z
UID:12293-1746266400-1746280800@amset.org
SUMMARY:Free Family Arts Day: Wild Wild West
DESCRIPTION:The Art Museum of Southeast Texas (AMSET) will present its popular Free Family Arts Day from 10 a.m. to 2 p.m.\, on Saturday\, May 3\, 2025. Visit AMSET in downtown Beaumont for a fun-filled day creating wild west inspired art pieces and exploring the museum.\nThe event’s theme\, “Wild\, Wild West”\, is inspired by the current exhibits on display in the museum’s main gallery\, Tom Jean Webb: A True Fairytale and José Villalobos: An In Between | Un Intermedio\, whose works are centered around themes of the American Southwest. Children and their families can create artwork that reflects pieces on display in the gallery including: embroidery sculptures\, yeehaw seesaw\, spring pop art\, elemental watercolors\, and more. They are also invited to make their mark at the Mosaic Masterpiece Station led by the mosaic artist J. Muzacz.\nEveryone is encouraged to wear their best western boots. The Best Boots Contest is split into three categories: kids\, teens\, and adults. First Place in each category will win a fun prize.\nComplimentary punch and cookies will be provided. A concession stand serving ballpark-style food will also be available for purchase. Enjoy live music from The Band J.A.G. from 11am to 2 pm.\nSimultaneously\, our friends at the Texas Energy Museum will host their Bubble Day event from 10am to 1pm\, Saturday May 3\, 2025\, across the lawn from AMSET.\n Admission to both events is free and open to the public\, and all materials are provided. For more information\, visit www.amset.org or call (409) 832-3432. Be sure to follow AMSET on Instagram and Facebook for up-to-date info on all events\, education programs\, and exhibitions. Follow on social media @amsetx.
URL:https://amset.org/event/free-family-arts-day-2/
LOCATION:Art Museum of Southeast Texas\, 500 Main Street\, Beaumont\, TX\, 77701\, United States
END:VEVENT
BEGIN:VEVENT
DTSTART;TZID=UTC:20250306T183000
DTEND;TZID=UTC:20250306T230000
DTSTAMP:20260422T215435
CREATED:20250106T215016Z
LAST-MODIFIED:20250107T214314Z
UID:12020-1741285800-1741302000@amset.org
SUMMARY:2025 Go for the Gold
DESCRIPTION:You are summoned most ceremony-ishly\nto follow the Golden Brick Road to\nGo for the Gold. \nThursday\, March 6\, 2025 at 6:30 p.m.\n500 Main Street\nBeaumont\, TX 77701 \nOne $100 ticket could win you:\n$10\,000 – 1ST PLACE * $1\,500 – 2ND PLACE * $1\,000 – 3RD PLACE * IN GOLD. \nDrawing begins at 7:00 PM. \nChaired by the Royal Nicole & Mike Albanese. \nTicket includes: Appetizers and Open Bar for Two & One Entry into the Drawing.\nFOR TICKETS\, CALL (409) 832-3432 OR CLICK HERE.
URL:https://amset.org/event/2025-go-for-the-gold/
LOCATION:Art Museum of Southeast Texas\, 500 Main Street\, Beaumont\, TX\, 77701\, United States
ATTACH;FMTTYPE=image/png:https://amset.org/wp-content/uploads/2025/01/GFTG-Thumbnail.png
END:VEVENT
BEGIN:VEVENT
DTSTART;TZID=UTC:20250208T100000
DTEND;TZID=UTC:20250208T140000
DTSTAMP:20260422T215435
CREATED:20250127T153325Z
LAST-MODIFIED:20250127T153325Z
UID:12064-1739008800-1739023200@amset.org
SUMMARY:Free Family Arts Day
DESCRIPTION:The Art Museum of Southeast Texas (AMSET) is gearing up for our quarterly free Family Arts Day on Saturday\, February 8\, 2025 from 10:00 a.m. – 2:00 p.m. at the museum located in Beaumont’s historic downtown. The theme for this quarter is Deconstruction/Reconstruction and coincides with our current exhibitions on display in the main galleries. \nFamilies can enjoy a variety of art activities related to the winter exhibitions\, Adrian Esparza: Remnants of Distance and Japheth Asiedu-Kwarteng: Burden of Proof. Activities will include 3D string art\, Kente palate art\, spirograph drawing\, figural sculptures and temporary tattoos. A ball-park style concession stand will be available to purchase hot dogs\, nachos\, chips\, pizza\, water and sodas. Cookies and punch will be available for free. \nAll attendees are welcome to enter a free raffle for a chance to win a gift basket full of art supplies. Three raffle drawings will take place throughout the day. Dancers from the Doll Girl Dance Studio will also perform at 11 a.m and 12:30 p.m. under the porte cache. \nFamily Arts Days are always free and open to the public. AMSET hosts four Family Arts Days a year\, each correlating with our current exhibitions on view in the main galleries. These events are always on Saturdays and feature a variety of art activities for children of all ages\, as well as a rotation of local performers. These quarterly events are a wonderful opportunity for you and your family to visit the museum and learn about the exciting programs and exhibitions that AMSET has to offer our community.
URL:https://amset.org/event/free-family-arts-day/
LOCATION:Art Museum of Southeast Texas\, 500 Main Street\, Beaumont\, TX\, 77701\, United States
END:VEVENT
BEGIN:VEVENT
DTSTART;VALUE=DATE:20241224
DTEND;VALUE=DATE:20241226
DTSTAMP:20260422T215435
CREATED:20241108T155027Z
LAST-MODIFIED:20241108T155027Z
UID:11810-1734998400-1735171199@amset.org
SUMMARY:Christmas Holiday - Museum Closed
DESCRIPTION:
URL:https://amset.org/event/christmas-holiday-museum-closed/
LOCATION:Art Museum of Southeast Texas\, 500 Main Street\, Beaumont\, TX\, 77701\, United States
END:VEVENT
BEGIN:VEVENT
DTSTART;VALUE=DATE:20241221
DTEND;VALUE=DATE:20241222
DTSTAMP:20260422T215435
CREATED:20241108T154943Z
LAST-MODIFIED:20241108T154943Z
UID:11808-1734739200-1734825599@amset.org
SUMMARY:Winter Exhibitions Open
DESCRIPTION:
URL:https://amset.org/event/winter-exhibitions-open/
LOCATION:Art Museum of Southeast Texas\, 500 Main Street\, Beaumont\, TX\, 77701\, United States
END:VEVENT
BEGIN:VEVENT
DTSTART;VALUE=DATE:20241208
DTEND;VALUE=DATE:20241209
DTSTAMP:20260422T215435
CREATED:20241108T154826Z
LAST-MODIFIED:20241108T154826Z
UID:11806-1733616000-1733702399@amset.org
SUMMARY:Last Day to View Harry Ahysen Main Gallery Exhibit
DESCRIPTION:
URL:https://amset.org/event/last-day-to-view-harry-ahysen-main-gallery-exhibit/
LOCATION:Art Museum of Southeast Texas\, 500 Main Street\, Beaumont\, TX\, 77701\, United States
END:VEVENT
BEGIN:VEVENT
DTSTART;TZID=UTC:20241207T100000
DTEND;TZID=UTC:20241207T123000
DTSTAMP:20260422T215435
CREATED:20241108T154619Z
LAST-MODIFIED:20241108T154619Z
UID:11803-1733565600-1733574600@amset.org
SUMMARY:Gingerbread Workshop
DESCRIPTION:
URL:https://amset.org/event/gingerbread-workshop/
LOCATION:Art Museum of Southeast Texas\, 500 Main Street\, Beaumont\, TX\, 77701\, United States
END:VEVENT
BEGIN:VEVENT
DTSTART;TZID=UTC:20241206T120000
DTEND;TZID=UTC:20241206T130000
DTSTAMP:20260422T215435
CREATED:20241108T154306Z
LAST-MODIFIED:20241108T154306Z
UID:11801-1733486400-1733490000@amset.org
SUMMARY:Taste of the Arts Lecture Series
DESCRIPTION:Come and join us for the Taste of the Arts lecture series. The event is a lunchtime gathering that includes a brief lecture from a guest and then lunch in the cafe (dutch treat).
URL:https://amset.org/event/taste-of-the-arts-lecture-series/
LOCATION:Art Museum of Southeast Texas\, 500 Main Street\, Beaumont\, TX\, 77701\, United States
END:VEVENT
BEGIN:VEVENT
DTSTART;TZID=UTC:20241205T160000
DTEND;TZID=UTC:20241205T183000
DTSTAMP:20260422T215435
CREATED:20241108T153554Z
LAST-MODIFIED:20241108T153554Z
UID:11796-1733414400-1733423400@amset.org
SUMMARY:Holiday Tree Lighting
DESCRIPTION:
URL:https://amset.org/event/holiday-tree-lighting/
LOCATION:Art Museum of Southeast Texas\, 500 Main Street\, Beaumont\, TX\, 77701\, United States
END:VEVENT
BEGIN:VEVENT
DTSTART;VALUE=DATE:20241128
DTEND;VALUE=DATE:20241129
DTSTAMP:20260422T215435
CREATED:20241108T153030Z
LAST-MODIFIED:20241108T153030Z
UID:11794-1732752000-1732838399@amset.org
SUMMARY:Thanksgiving - Museum Closed
DESCRIPTION:
URL:https://amset.org/event/thanksgiving-museum-closed/
LOCATION:Art Museum of Southeast Texas\, 500 Main Street\, Beaumont\, TX\, 77701\, United States
END:VEVENT
BEGIN:VEVENT
DTSTART;TZID=UTC:20241108T180000
DTEND;TZID=UTC:20241108T200000
DTSTAMP:20260422T215435
CREATED:20241108T152744Z
LAST-MODIFIED:20241108T152744Z
UID:11792-1731088800-1731096000@amset.org
SUMMARY:Collector's Club Home Tours
DESCRIPTION:Join us as we visit the homes of Terry and LeAnn Garth\, Edwina and Jim Landrum\, and Jessica and John Aidair. \nInterested in joining the Collector’s Club? Click Here
URL:https://amset.org/event/collectors-club-home-tours/
LOCATION:Art Museum of Southeast Texas\, 500 Main Street\, Beaumont\, TX\, 77701\, United States
END:VEVENT
BEGIN:VEVENT
DTSTART;TZID=UTC:20241019T100000
DTEND;TZID=UTC:20241019T140000
DTSTAMP:20260422T215435
CREATED:20241007T180335Z
LAST-MODIFIED:20241007T180336Z
UID:11772-1729332000-1729346400@amset.org
SUMMARY:FREE Family Arts Day: Eat-A-Bug
DESCRIPTION:Spooky season is coming soon! Make plans to join us on Saturday\, October 19 from 10 AM – 2 PM for our Eat-A-Bug FREE Family Arts Day. Art activities include decorating sugar skulls\, plein air painting\, Halloween still-life drawings\, and more. And of course\, Bill Clark Pest Control\, Inc. – The Bugsperts will be on-site cooking up delicious bugs for visitors to sample! This event is part of Beaumont’s annual Museum Madness Weekend 👻🎃
URL:https://amset.org/event/eatabug/
LOCATION:Art Museum of Southeast Texas\, 500 Main Street\, Beaumont\, TX\, 77701\, United States
ATTACH;FMTTYPE=image/jpeg:https://amset.org/wp-content/uploads/2024/10/Eat-a-Bug.jpg
END:VEVENT
BEGIN:VEVENT
DTSTART;TZID=UTC:20241015T173000
DTEND;TZID=UTC:20241015T190000
DTSTAMP:20260422T215435
CREATED:20231102T153523Z
LAST-MODIFIED:20240814T152518Z
UID:7773-1729013400-1729018800@amset.org
SUMMARY:AMSET Book Club Meeting
DESCRIPTION:The AMSET Book Club will meet again on Tuesday\, Oct. 15\, from 5:30 – 7:00 p.m. Our next read will be a tandem of two books by the same author! One Woman Show\, and\, Metropolitan Stories\, by Christine Coulson.\nThis club is free and always welcoming new members. Light refreshments will be provided followed by group discussion. We hope to see you there!
URL:https://amset.org/event/amset-book-club-meeting/
LOCATION:Art Museum of Southeast Texas\, 500 Main Street\, Beaumont\, TX\, 77701\, United States
ATTACH;FMTTYPE=image/png:https://amset.org/wp-content/uploads/2023/11/Share-about-your-favorite-journeys-through-book-with-us-26.png
END:VEVENT
BEGIN:VEVENT
DTSTART;TZID=UTC:20240914T183000
DTEND;TZID=UTC:20240914T200000
DTSTAMP:20260422T215435
CREATED:20240903T194518Z
LAST-MODIFIED:20240903T195619Z
UID:11542-1726338600-1726344000@amset.org
SUMMARY:Millennial Lotería
DESCRIPTION:Millennial Lotería\nSaturday\, September 14 at 6:30 p.m.\nArt Museum of Southeast Texas\n500 Main Street  Beaumont\, TX  \nCelebrate Hispanic Heritage Month and join us to play Millennial Lotería at the Art Museum of Southeast Texas on Saturday\, September 14. \nWhat is Lotería? A game of chance commonly referred to as “Mexican Bingo\,” but in this version\, the images\, words and numbers have a fun millennial twist! \nThis event is free and open to the public and begins at 6:30 p.m. Enjoy snacks\, prizes\, and a fabulous display of Mexican Folk Art in the main galleries. We hope to see you there!
URL:https://amset.org/event/millennial-loteria/
LOCATION:Art Museum of Southeast Texas\, 500 Main Street\, Beaumont\, TX\, 77701\, United States
ATTACH;FMTTYPE=image/jpeg:https://amset.org/wp-content/uploads/2024/09/Millennial-Loteria-Facebook-Post-Square.jpg
END:VEVENT
END:VCALENDAR