BEGIN:VCALENDAR
VERSION:2.0
PRODID:-//Art Museum of Southeast Texas - ECPv6.15.20//NONSGML v1.0//EN
CALSCALE:GREGORIAN
METHOD:PUBLISH
X-ORIGINAL-URL:https://amset.org
X-WR-CALDESC:Events for Art Museum of Southeast Texas
REFRESH-INTERVAL;VALUE=DURATION:PT1H
X-Robots-Tag:noindex
X-PUBLISHED-TTL:PT1H
BEGIN:VTIMEZONE
TZID:UTC
BEGIN:STANDARD
TZOFFSETFROM:+0000
TZOFFSETTO:+0000
TZNAME:UTC
DTSTART:20250101T000000
END:STANDARD
END:VTIMEZONE
BEGIN:VEVENT
DTSTART;TZID=UTC:20260616T173000
DTEND;TZID=UTC:20260616T190000
DTSTAMP:20260422T164933
CREATED:20260313T013712Z
LAST-MODIFIED:20260313T013712Z
UID:12908-1781631000-1781636400@amset.org
SUMMARY:Book Club Meeting
DESCRIPTION:Join us for Book Club where we read books that are related to art or incorporate art into the story\, and meet to discuss over sips and snacks! \nOpen to the public! \nIf you would like to be on the book club email list\, email: hdeville@amset.org
URL:https://amset.org/event/book-club-meeting-2/
END:VEVENT
BEGIN:VEVENT
DTSTART;TZID=UTC:20260627T113000
DTEND;TZID=UTC:20260627T123000
DTSTAMP:20260422T164933
CREATED:20260313T011051Z
LAST-MODIFIED:20260313T011051Z
UID:12888-1782559800-1782563400@amset.org
SUMMARY:Art in Motion: Guided Mural Walking Tour
DESCRIPTION:💲 Free | Registration Required\n🗓 June 27\, 2026\n🕥 11:30 AM\n📍 AMSET – 500 Main Street\, Beaumont\, TX 77701\n💛 Donations Welcome\n⏰ Please arrive 15 minutes early for the tour \nArt in Motion: Guided Mural Walking Tour is a new wellness program that invites participants to explore downtown Beaumont through art\, movement\, and storytelling.\nParticipants will stroll through downtown Beaumont while learning the stories\, artists\, and history behind the city’s vibrant murals\, experiencing public art in a new and engaging way.\nArt in Motion is supported by Be Well Beaumont. Be Well Beaumont is an initiative of The University of Texas MD Anderson Cancer Center sponsored by ExxonMobil.
URL:https://amset.org/event/art-in-motion-guided-mural-walking-tour-2/
END:VEVENT
END:VCALENDAR