BEGIN:VCALENDAR
VERSION:2.0
PRODID:-//Art Museum of Southeast Texas - ECPv6.15.20//NONSGML v1.0//EN
CALSCALE:GREGORIAN
METHOD:PUBLISH
X-WR-CALNAME:Art Museum of Southeast Texas
X-ORIGINAL-URL:https://amset.org
X-WR-CALDESC:Events for Art Museum of Southeast Texas
REFRESH-INTERVAL;VALUE=DURATION:PT1H
X-Robots-Tag:noindex
X-PUBLISHED-TTL:PT1H
BEGIN:VTIMEZONE
TZID:UTC
BEGIN:STANDARD
TZOFFSETFROM:+0000
TZOFFSETTO:+0000
TZNAME:UTC
DTSTART:20250101T000000
END:STANDARD
END:VTIMEZONE
BEGIN:VEVENT
DTSTART;VALUE=DATE:20260704
DTEND;VALUE=DATE:20260705
DTSTAMP:20260422T183155
CREATED:20260313T013303Z
LAST-MODIFIED:20260313T013303Z
UID:12906-1783123200-1783209599@amset.org
SUMMARY:Museum Closed for Holiday
DESCRIPTION:
URL:https://amset.org/event/museum-closed-for-holiday-4/
END:VEVENT
BEGIN:VEVENT
DTSTART;TZID=UTC:20260709T103000
DTEND;TZID=UTC:20260709T113000
DTSTAMP:20260422T183155
CREATED:20260313T010703Z
LAST-MODIFIED:20260313T010703Z
UID:12884-1783593000-1783596600@amset.org
SUMMARY:Art in Motion: Yoga in the Gallery
DESCRIPTION: Free | Registration Required July 9\, 2026 10:30 AM AMSET – 500 Main Street\, Beaumont\, TX 77701 Donations Welcome Please arrive 15 minutes early to class\nArt in Motion: Yoga in the Gallery is a new and FREE wellness program at the Art Museum of Southeast Texas.\nThis unique offering invites participants to experience an instructor-led yoga class surrounded by the inspiring artwork and serene atmosphere of the museum’s galleries.\nArt in Motion is supported by Be Well Beaumont. Be Well Beaumont is an initiative of The University of Texas MD Anderson Cancer Center sponsored by ExxonMobil.
URL:https://amset.org/event/art-in-motion-yoga-in-the-gallery-2/
END:VEVENT
BEGIN:VEVENT
DTSTART;TZID=UTC:20260714T173000
DTEND;TZID=UTC:20260714T190000
DTSTAMP:20260422T183155
CREATED:20260313T014323Z
LAST-MODIFIED:20260313T014323Z
UID:12914-1784050200-1784055600@amset.org
SUMMARY:Film Crew Meeting
DESCRIPTION:Join us for “Film Crew” where we watch art related movies\, documentaries\, and series on our own\, and gather together to discuss with sips and snacks. \nOpen to the public.
URL:https://amset.org/event/film-crew-meeting-3/
END:VEVENT
END:VCALENDAR